BEGIN:VCALENDAR
VERSION:2.0
PRODID:-//Pacific Coast Center For Spiritual Living - ECPv6.15.20//NONSGML v1.0//EN
CALSCALE:GREGORIAN
METHOD:PUBLISH
X-WR-CALNAME:Pacific Coast Center For Spiritual Living
X-ORIGINAL-URL:https://pacificcsl.org
X-WR-CALDESC:Events for Pacific Coast Center For Spiritual Living
REFRESH-INTERVAL;VALUE=DURATION:PT1H
X-Robots-Tag:noindex
X-PUBLISHED-TTL:PT1H
BEGIN:VTIMEZONE
TZID:America/Los_Angeles
BEGIN:DAYLIGHT
TZOFFSETFROM:-0800
TZOFFSETTO:-0700
TZNAME:PDT
DTSTART:20230312T100000
END:DAYLIGHT
BEGIN:STANDARD
TZOFFSETFROM:-0700
TZOFFSETTO:-0800
TZNAME:PST
DTSTART:20231105T090000
END:STANDARD
BEGIN:DAYLIGHT
TZOFFSETFROM:-0800
TZOFFSETTO:-0700
TZNAME:PDT
DTSTART:20240310T100000
END:DAYLIGHT
BEGIN:STANDARD
TZOFFSETFROM:-0700
TZOFFSETTO:-0800
TZNAME:PST
DTSTART:20241103T090000
END:STANDARD
BEGIN:DAYLIGHT
TZOFFSETFROM:-0800
TZOFFSETTO:-0700
TZNAME:PDT
DTSTART:20250309T100000
END:DAYLIGHT
BEGIN:STANDARD
TZOFFSETFROM:-0700
TZOFFSETTO:-0800
TZNAME:PST
DTSTART:20251102T090000
END:STANDARD
END:VTIMEZONE
BEGIN:VEVENT
DTSTART;TZID=America/Los_Angeles:20240929T123000
DTEND;TZID=America/Los_Angeles:20240929T133000
DTSTAMP:20260424T093539
CREATED:20240807T150447Z
LAST-MODIFIED:20240807T150923Z
UID:10001457-1727613000-1727616600@pacificcsl.org
SUMMARY:2024 Annual Meeting
DESCRIPTION:You are cordially invited to our 2024 Pacific Coast CSL Annual Meeting to be held after the service on September 29\, 2024!  \n\n\n\nTopics of discussion will be (but not limited to): \n\n\n\n\nChange in board members\n\n\n\nNew Logo\n\n\n\nFinancial Status\n\n\n\nProgram Updates – Spiritual\, Operational\, Financial\, Facility\n\n\n\n\nHope to see you there!
URL:https://pacificcsl.org/event/2024-annual-meeting/
LOCATION:Pacific Coast Center For Spiritual Living\, 500 Marina Drive\, Seal Beach\, CA\, 90740\, United States
CATEGORIES:Upcoming Events
ATTACH;FMTTYPE=image/jpeg:https://pacificcsl.org/wp-content/uploads/2024/08/Annual-Meeting.jpg
END:VEVENT
BEGIN:VEVENT
DTSTART;TZID=America/Los_Angeles:20240921T130000
DTEND;TZID=America/Los_Angeles:20240921T153000
DTSTAMP:20260424T093539
CREATED:20240831T184555Z
LAST-MODIFIED:20240831T184751Z
UID:10001469-1726923600-1726932600@pacificcsl.org
SUMMARY:Fall Equinox Celebration Cacao Ceremony – Breathwork – Sound Bath
DESCRIPTION:The Circle invites you to join us for a Fall Equinox Celebration on Saturday September 21st. Licensed therapist and Pacific Coast congregant Andrea Cairella has put together a fabulous afternoon for us starting off with an Invocation of the Cacao Ceremony and conscious embodiment. Then breathwork facilitator Zaire will lead a conscious connected breathwork ceremony\, and we’re delighted to have Rosamaria Segura back again; she’ll close out the afternoon with a sacred sound bath ceremony.Join us on Saturday\, September 21st from 1:00pm to 3:30pm. \n\n\n\nWe’re offering 3 ticket levels:\n\n$35 early bird (thru 9/16)\n$40 GA (thru 9/21/24 @ 11am)\n$45 at the door\n\n\n\n\nALL SALES ARE FINAL.
URL:https://pacificcsl.org/event/fall-equinox-celebration-cacao-ceremony-breathwork-sound-bath/
LOCATION:Pacific Coast Center For Spiritual Living\, 500 Marina Drive\, Seal Beach\, CA\, 90740\, United States
CATEGORIES:Upcoming Events
ATTACH;FMTTYPE=image/jpeg:https://pacificcsl.org/wp-content/uploads/2024/08/Fall-Equinox-Andrea-et-al-9-21-24.jpg
END:VEVENT
BEGIN:VEVENT
DTSTART;TZID=America/Los_Angeles:20240908T110000
DTEND;TZID=America/Los_Angeles:20240908T121500
DTSTAMP:20260424T093539
CREATED:20240820T203240Z
LAST-MODIFIED:20240820T204623Z
UID:10001463-1725793200-1725797700@pacificcsl.org
SUMMARY:Passageways Celebration
DESCRIPTION:YOUTH Sunday\, September 8th\n\n\n\nSPECIAL CEREMONY\n\n\n\nPlease have your children join us Sunday\, September 8th for our Passageways Ceremony. This is a special time where we come together to celebrate\, encourage and empower each child as they begin a new school year with intentions they will create. This sacred ceremony will take place in our sanctuary during the service with blessings from Reverend Bobbi Becker and the entire congregation. Join us to start this school year in a positive way.
URL:https://pacificcsl.org/event/passageways-celebration/
LOCATION:Pacific Coast Center For Spiritual Living\, 500 Marina Drive\, Seal Beach\, CA\, 90740\, United States
CATEGORIES:Upcoming Events
ATTACH;FMTTYPE=image/jpeg:https://pacificcsl.org/wp-content/uploads/2024/08/Passageways-1.jpg
END:VEVENT
BEGIN:VEVENT
DTSTART;TZID=America/Los_Angeles:20240825T110000
DTEND;TZID=America/Los_Angeles:20240825T124500
DTSTAMP:20260424T093539
CREATED:20240730T212357Z
LAST-MODIFIED:20240817T045858Z
UID:10001455-1724583600-1724589900@pacificcsl.org
SUMMARY:Care Circle Sunday
DESCRIPTION:Rev. Carol Lotts: “What Is Healing?”
URL:https://pacificcsl.org/event/care-circle-sunday/
LOCATION:Pacific Coast Center For Spiritual Living\, 500 Marina Drive\, Seal Beach\, CA\, 90740\, United States
CATEGORIES:Upcoming Events,Upcoming Services
ATTACH;FMTTYPE=image/jpeg:https://pacificcsl.org/wp-content/uploads/2024/07/August-25.jpg
END:VEVENT
BEGIN:VEVENT
DTSTART;TZID=America/Los_Angeles:20240810T160000
DTEND;TZID=America/Los_Angeles:20240810T193000
DTSTAMP:20260424T093539
CREATED:20240716T192847Z
LAST-MODIFIED:20240807T200353Z
UID:10001450-1723305600-1723318200@pacificcsl.org
SUMMARY:True Believer Screening
DESCRIPTION:Get ready to dive deep into the world of “True Believer” with a special screening and discussion that will leave you feeling inspired! \n\n\n\nWelcome to the “True Believer” Screening with Panel Discussion event! Join us at the Pacific Coast Center for Spiritual Living for a screening of “True Believer” on Saturday\, August 10\, at 4:00 PM\, followed by a discussion. \n\n\n\nFor over 40 years\, the Religious Right in the US has proclaimed a patriarchal\, anti-LGBTQ gospel\, from cross-engraved-pulpits to bunting-laced podiums. “True Believer” explores the origins of this movement\, weaving together the larger political intentions at play with Kristen Irving’s story of her own experience within a family deeply committed to their evangelical community. Kristen’s personal story will resonate with many persons who have either found their way out of the evangelical church or have become deeply uncomfortable within it. The details about how this movement was launched will be revealing for many who assume that it was simply a grassroots movement\, or “a work of the Spirit.” \n\n\n\n“TRUE BELIEVER” presents a rare insight into the generations of American foot soldiers who have been trained as a Christian army that currently threatens our fraying democracy.” \n\n\n\nLyn Davis Lear\, Executive Producer \n\n\n\n\n\n\n\n$15.08 donation to support the film. \n\n\n\nBuy Tickets on Eventbrite\n\n	Buy Tickets
URL:https://pacificcsl.org/event/true-believer-screening/
LOCATION:Pacific Coast Center For Spiritual Living\, 500 Marina Drive\, Seal Beach\, CA\, 90740\, United States
CATEGORIES:Upcoming Events
ATTACH;FMTTYPE=image/jpeg:https://pacificcsl.org/wp-content/uploads/2024/07/true-believer-august-10.jpg
END:VEVENT
BEGIN:VEVENT
DTSTART;TZID=America/Los_Angeles:20240728T110000
DTEND;TZID=America/Los_Angeles:20240728T123000
DTSTAMP:20260424T093539
CREATED:20240709T172232Z
LAST-MODIFIED:20240710T020045Z
UID:10001324-1722164400-1722169800@pacificcsl.org
SUMMARY:7-28-2024 - Care Circle Sunday
DESCRIPTION:Rev. Bobbi Becker: “Creative Progress” – What are the elements of progress?
URL:https://pacificcsl.org/event/7-28-2024-care-circle-sunday/
LOCATION:Pacific Coast Center For Spiritual Living\, 500 Marina Drive\, Seal Beach\, CA\, 90740\, United States
CATEGORIES:Upcoming Events,Upcoming Services
ATTACH;FMTTYPE=image/jpeg:https://pacificcsl.org/wp-content/uploads/2024/07/July-28.jpg
END:VEVENT
BEGIN:VEVENT
DTSTART;TZID=America/Los_Angeles:20240723T183000
DTEND;TZID=America/Los_Angeles:20240723T200000
DTSTAMP:20260424T093539
CREATED:20240626T232731Z
LAST-MODIFIED:20240710T150016Z
UID:10000016-1721759400-1721764800@pacificcsl.org
SUMMARY:Setting the Table - Affirmative Prayer
DESCRIPTION:Prayer is a powerful spiritual practice in the teachings of Science of Mind. Join us as we go deeper into our inner dialog in and around prayer\, making it more accessible for all. We will explore the history of prayer\, unpack our own beliefs around it\, learn how to approach prayer with intention and feeling\, and receive an introduction to mindfulness techniques which allow deeper presence in prayer and\, as always\, in all aspects of our lives. Learn along with Rev Bobbi\, Rev Juanita\, Rev Sunshine Daye\, Cayce Howe and you!! \n\n\n\n\n7/9: Rev. Bobbi & Rev Juanita: Deeper Dialog – Prayer\, Questions. Bring your “answers” & questions (from homework card).\n\n\n\n7/16: Rev Sunshine Daye:  Intention and Feeling of Prayer\n\n\n\n7/23: Cayce Howe: Mindfulness 
URL:https://pacificcsl.org/event/prayer-workshops-july-9-16-23-2024/2024-07-23/
LOCATION:Pacific Coast Center For Spiritual Living\, 500 Marina Drive\, Seal Beach\, CA\, 90740\, United States
CATEGORIES:Upcoming Events
ATTACH;FMTTYPE=image/jpeg:https://pacificcsl.org/wp-content/uploads/2024/06/Grow-your-skills-define-your-future-5.jpg
END:VEVENT
BEGIN:VEVENT
DTSTART;TZID=America/Los_Angeles:20240716T183000
DTEND;TZID=America/Los_Angeles:20240716T200000
DTSTAMP:20260424T093539
CREATED:20240626T232731Z
LAST-MODIFIED:20240710T150016Z
UID:10000015-1721154600-1721160000@pacificcsl.org
SUMMARY:Setting the Table - Affirmative Prayer
DESCRIPTION:Prayer is a powerful spiritual practice in the teachings of Science of Mind. Join us as we go deeper into our inner dialog in and around prayer\, making it more accessible for all. We will explore the history of prayer\, unpack our own beliefs around it\, learn how to approach prayer with intention and feeling\, and receive an introduction to mindfulness techniques which allow deeper presence in prayer and\, as always\, in all aspects of our lives. Learn along with Rev Bobbi\, Rev Juanita\, Rev Sunshine Daye\, Cayce Howe and you!! \n\n\n\n\n7/9: Rev. Bobbi & Rev Juanita: Deeper Dialog – Prayer\, Questions. Bring your “answers” & questions (from homework card).\n\n\n\n7/16: Rev Sunshine Daye:  Intention and Feeling of Prayer\n\n\n\n7/23: Cayce Howe: Mindfulness 
URL:https://pacificcsl.org/event/prayer-workshops-july-9-16-23-2024/2024-07-16/
LOCATION:Pacific Coast Center For Spiritual Living\, 500 Marina Drive\, Seal Beach\, CA\, 90740\, United States
CATEGORIES:Upcoming Events
ATTACH;FMTTYPE=image/jpeg:https://pacificcsl.org/wp-content/uploads/2024/06/Grow-your-skills-define-your-future-5.jpg
END:VEVENT
BEGIN:VEVENT
DTSTART;TZID=America/Los_Angeles:20240713T130000
DTEND;TZID=America/Los_Angeles:20240713T150000
DTSTAMP:20260424T093539
CREATED:20240626T231819Z
LAST-MODIFIED:20240713T193441Z
UID:10000005-1720875600-1720882800@pacificcsl.org
SUMMARY:The Circle - July 13\, 2024
DESCRIPTION:Join us for an afternoon of Conscious Embodiment. Licensed therapist Andrea Cairella\, MC\, LPCC will be teaching us a series of practices you can easily and effortlessly integrate into your current devotional practices. Combining trauma-informed practices of trauma release exercises\, ChakraDance\, Kundalini/Polyvegal yoga\, breathwork and vocal sound healing you will first clear out toxins from the body\, mind and heart so you can more easily connect with the higher frequencies of your soul energy. \n\n\n\nAre you ready to experience soul-alignment on a cellular level from your head to your toes? \n\n\n\nJoin us in Saturday\, July 13th from 1:00pm to 3:00pm in Seal Beach @ Pacific Coast Center for Spiritual Living \n\n\n\n\nEarly Bird (7/8 or earlier) $20.00 \n\n\n\nGeneral Admission $25.00\n\n\n\nAt the Door $30.00
URL:https://pacificcsl.org/event/the-circle-july-2024/
LOCATION:Pacific Coast Center For Spiritual Living\, 500 Marina Drive\, Seal Beach\, CA\, 90740\, United States
CATEGORIES:Upcoming Events
ATTACH;FMTTYPE=image/jpeg:https://pacificcsl.org/wp-content/uploads/2024/06/july-13-2024.jpg
END:VEVENT
BEGIN:VEVENT
DTSTART;TZID=America/Los_Angeles:20240709T183000
DTEND;TZID=America/Los_Angeles:20240709T200000
DTSTAMP:20260424T093539
CREATED:20240626T232731Z
LAST-MODIFIED:20240710T150016Z
UID:10000006-1720549800-1720555200@pacificcsl.org
SUMMARY:Setting the Table - Affirmative Prayer
DESCRIPTION:Prayer is a powerful spiritual practice in the teachings of Science of Mind. Join us as we go deeper into our inner dialog in and around prayer\, making it more accessible for all. We will explore the history of prayer\, unpack our own beliefs around it\, learn how to approach prayer with intention and feeling\, and receive an introduction to mindfulness techniques which allow deeper presence in prayer and\, as always\, in all aspects of our lives. Learn along with Rev Bobbi\, Rev Juanita\, Rev Sunshine Daye\, Cayce Howe and you!! \n\n\n\n\n7/9: Rev. Bobbi & Rev Juanita: Deeper Dialog – Prayer\, Questions. Bring your “answers” & questions (from homework card).\n\n\n\n7/16: Rev Sunshine Daye:  Intention and Feeling of Prayer\n\n\n\n7/23: Cayce Howe: Mindfulness 
URL:https://pacificcsl.org/event/prayer-workshops-july-9-16-23-2024/2024-07-09/
LOCATION:Pacific Coast Center For Spiritual Living\, 500 Marina Drive\, Seal Beach\, CA\, 90740\, United States
CATEGORIES:Upcoming Events
ATTACH;FMTTYPE=image/jpeg:https://pacificcsl.org/wp-content/uploads/2024/06/Grow-your-skills-define-your-future-5.jpg
END:VEVENT
END:VCALENDAR