BEGIN:VCALENDAR
VERSION:2.0
PRODID:-//Pacific Coast Center For Spiritual Living - ECPv6.15.20//NONSGML v1.0//EN
CALSCALE:GREGORIAN
METHOD:PUBLISH
X-ORIGINAL-URL:https://pacificcsl.org
X-WR-CALDESC:Events for Pacific Coast Center For Spiritual Living
REFRESH-INTERVAL;VALUE=DURATION:PT1H
X-Robots-Tag:noindex
X-PUBLISHED-TTL:PT1H
BEGIN:VTIMEZONE
TZID:America/Los_Angeles
BEGIN:DAYLIGHT
TZOFFSETFROM:-0800
TZOFFSETTO:-0700
TZNAME:PDT
DTSTART:20240310T100000
END:DAYLIGHT
BEGIN:STANDARD
TZOFFSETFROM:-0700
TZOFFSETTO:-0800
TZNAME:PST
DTSTART:20241103T090000
END:STANDARD
BEGIN:DAYLIGHT
TZOFFSETFROM:-0800
TZOFFSETTO:-0700
TZNAME:PDT
DTSTART:20250309T100000
END:DAYLIGHT
BEGIN:STANDARD
TZOFFSETFROM:-0700
TZOFFSETTO:-0800
TZNAME:PST
DTSTART:20251102T090000
END:STANDARD
BEGIN:DAYLIGHT
TZOFFSETFROM:-0800
TZOFFSETTO:-0700
TZNAME:PDT
DTSTART:20260308T100000
END:DAYLIGHT
BEGIN:STANDARD
TZOFFSETFROM:-0700
TZOFFSETTO:-0800
TZNAME:PST
DTSTART:20261101T090000
END:STANDARD
END:VTIMEZONE
BEGIN:VEVENT
DTSTART;TZID=America/Los_Angeles:20250919T183000
DTEND;TZID=America/Los_Angeles:20250919T200000
DTSTAMP:20260424T011451
CREATED:20250903T191224Z
LAST-MODIFIED:20250903T191226Z
UID:10001990-1758306600-1758312000@pacificcsl.org
SUMMARY:Autumn Activation
DESCRIPTION:Presented by: Denise Estrada\, LAc – Licensed Acupuncturist and Owner\, Infinite Wellness Acupuncture\, Long Beach \n\n\n\nCelebrate the Autumn Equinox 2025 with a grounding and restorative workshop designed to align your body\, mind\, and spirit with the natural rhythms of the season. Guided by the wisdom of Traditional Chinese Medicine (TCM)\, this workshop focuses on the lungs and large intestine meridians\, governed by the metal element. Autumn invites us to release what no longer serves us and cultivate clarity and balance. \n\n\n\nWorkshop Highlights: \n\n\n\nIntroduction to TCM Meridians: Learn how the lungs support immunity\, vitality\, and breath\, and how the large intestine promotes healthy elimination and emotional letting go. \n\n\n\nGuided Breathwork: Strengthen lung qi and harmonize seasonal energy. \n\n\n\nAcupuncture Point Activation: Gentle self-activation of key points\, including: \n\n\n\n\nLung 9 (Taiyuan): Tonifies lung qi and yin\n\n\n\nLung 7 (Lieque): Opens the chest and supports defensive qi\n\n\n\nLarge Intestine 4 (Hegu): Regulates immunity and clears stagnation\n\n\n\n\nQigong Flow: Simple movements to open and balance lung and large intestine meridians \n\n\n\nMeditation: A brief practice to cultivate clarity\, renewal\, and inner balance \n\n\n\nThis workshop offers a unique opportunity to align with the energy of autumn\, release what no longer serves you\, and prepare your body and spirit for the inward journey of winter. \n\n\n\nReserve your spot today! Space is limited. \n\n\n\nTickets: \n\n\n\n\n\n\nEarly Bird (9/17 or earlier) : $25.00\n\n\n\nGeneral Admission: $30.00\n\n\n\nAt The Door: $35.00
URL:https://pacificcsl.org/event/autumn-activation/
LOCATION:Pacific Coast Center For Spiritual Living\, 500 Marina Drive\, Seal Beach\, CA\, 90740\, United States
CATEGORIES:Upcoming Events
ATTACH;FMTTYPE=image/jpeg:https://pacificcsl.org/wp-content/uploads/2025/09/The-Circle-September-2025.jpg
END:VEVENT
END:VCALENDAR